BEGIN:VCALENDAR
VERSION:2.0
PRODID:-//Nottingham Roller Derby - ECPv6.8.3//NONSGML v1.0//EN
CALSCALE:GREGORIAN
METHOD:PUBLISH
X-ORIGINAL-URL:https://nottsrollerderby.co.uk
X-WR-CALDESC:Events for Nottingham Roller Derby
REFRESH-INTERVAL;VALUE=DURATION:PT1H
X-Robots-Tag:noindex
X-PUBLISHED-TTL:PT1H
BEGIN:VTIMEZONE
TZID:Europe/Paris
BEGIN:DAYLIGHT
TZOFFSETFROM:+0100
TZOFFSETTO:+0200
TZNAME:CEST
DTSTART:20210328T010000
END:DAYLIGHT
BEGIN:STANDARD
TZOFFSETFROM:+0200
TZOFFSETTO:+0100
TZNAME:CET
DTSTART:20211031T010000
END:STANDARD
END:VTIMEZONE
BEGIN:VEVENT
DTSTART;TZID=Europe/Paris:20210904T170000
DTEND;TZID=Europe/Paris:20210904T230000
DTSTAMP:20260423T042127
CREATED:20210812T075050Z
LAST-MODIFIED:20210812T080150Z
UID:2692-1630774800-1630796400@nottsrollerderby.co.uk
SUMMARY:Louisey Rider Cup 2021: Party Time!
DESCRIPTION:The Louisey Rider Cup is back! Well\, sort of… \nOn Saturday Sept 4th\, expect all the sparkle and excitement of the game day side-show plus afterparty shenanigans in one outdoor venue – the Old Cold Store’s sizeable courtyard. Nottingham Roller Derby presents LRC – Party Edition! \nCLICK HERE FOR TICKETS \nThere will be no Roller Derby tournament this year but that isn’t going to stop us from having a glittery get-together and a showdown for the second most coveted trophy of the day – Lip Sync Battle Champion. \nIt was important for us to be able to do something together this year to honour our teammate\, Louise Wright\, aka Louisey Rider #66\, who was killed suddenly in a cycling accident in 2014. \nLou had often spoken about putting on a tournament. In the Louisey Rider Cup\, we found a way of both celebrating her life and combining all of those off-the-wall ideas that we all know she would have suggested. \nIn normal times\, The Louisey Rider Cup is an annual Roller Derby Tournament that brings together hundreds of people from all over to raise money for road safety charity Break – so far we’ve raised over £15\,000. \nWe know Lou would have bloody loved what the tournament has become\, brilliant costumes or fancy threads\, a chance to get together to make memories and life-long friends. As long we’re allowed\, we refuse to spend another year without waking up with a pillow full of glitter. \nWHAT TO EXPECT: \nStarting at 5pm in the outdoors area of the Old Cold Store\, we’ll be treating you to: \nEntertainment\nGames\nStalls\nCompetitions\nAt 9pm the infamous LRC Lip Sync Battle \nPlus\, of course\, glitter. Lots of glitter! \nDrinks and food will be available from the Vat & Fiddle and we’ll have plenty of protection from the unpredictable British weather! \nWe’ll also have our annual sponsored event. In the past\, we’ve shaved or waxed various folx in different places and last year we made Bear do a random obstacle course. Look out for announcements on this year’s challenge. We can’t tell you what it is yet but there’s sure to be\, as Lou would say\, sh*ts and giggles. \nAll of this for just £4 with all proceeds going to Brake. \nWhere? \nThe Old Cold Store @ Castle Rock Brewery\nVat and Fiddle\n12-15 Queensbridge Road\nNG2 1NB
URL:https://nottsrollerderby.co.uk/event/louisey-rider-cup-2021-party-time/
LOCATION:The Old Cold Store\, Queensbridge Rd\, Nottingham\, Nottingham\, NG2 1NB\, United Kingdom
CATEGORIES:Charity Event,Social
ORGANIZER;CN="Notingham Roller Derby":MAILTO:info@nottsrollerderby.co.uk
END:VEVENT
END:VCALENDAR